BEGIN:VCALENDAR
VERSION:2.0
PRODID:icalendar-ruby
CALSCALE:GREGORIAN
BEGIN:VTIMEZONE
TZID:America/Chicago
BEGIN:DAYLIGHT
DTSTART:20260308T030000
TZOFFSETFROM:-0600
TZOFFSETTO:-0500
RRULE:FREQ=YEARLY;BYDAY=2SU;BYMONTH=3
TZNAME:CDT
END:DAYLIGHT
BEGIN:STANDARD
DTSTART:20261101T010000
TZOFFSETFROM:-0500
TZOFFSETTO:-0600
RRULE:FREQ=YEARLY;BYDAY=1SU;BYMONTH=11
TZNAME:CST
END:STANDARD
END:VTIMEZONE
BEGIN:VEVENT
DTSTAMP;TZID=America/Chicago:20260421T091312
UID:220935@calendar.wisc.edu
DTSTART;TZID=America/Chicago:20260421T160000
DTEND;TZID=America/Chicago:20260421T170000
DESCRIPTION:with a live Q&amp\;A session featuring the director — Awam Am
 kpa.. Join us for a screening of The Man Died\, a powerful adaptation of W
 ole Soyinka’s prison memoir set during Nigeria’s civil war. It traces 
 his nearly 2 year imprisonment and how writing became an act of resistance
 . Blending personal narrative with political history\, it is a compelling 
 testament to artistic freedom and speaking truth to power. \n\nThe directo
 r will also deliver a talk on the film as the 7th Tejumola Olaniyan Memori
 al Lecture at the Africa at Noon lecture series on April 22.\n\nCONTACT: 2
 62-2380\, asp@africa.wisc.edu\n\nURL: https://africa.wisc.edu/event/the-ma
 n-died-profiling-wole-soyinka/
LOCATION:Marquee Cinema\, Union South
SUMMARY:Film Screening: The Man Died
URL;VALUE=URI:https://africa.wisc.edu/event/the-man-died-profiling-wole-soy
 inka/
END:VEVENT
BEGIN:VEVENT
DTSTAMP;TZID=America/Chicago:20260421T091312
UID:217301@calendar.wisc.edu
DTSTART;TZID=America/Chicago:20260422T120000
DTEND;TZID=America/Chicago:20260422T130000
DESCRIPTION:Seventh Tejumola Olaniyan Lecture - Awam Amkpa. This lecture wi
 ll examine scholarship of the late Professor Tejumola Olaniyan and the mak
 ing of The Man Died (2024)\, which the speaker directed and for which they
  won Best Director at the 2025 Africa Magic Viewers’ Choice Awards (AMVC
 A). Based on Nobel Laureate Wole Soyinka’s harrowing prison memoir\, the
  film chronicles his detention without trial under a brutal military regim
 e determined to silence his voice.\n\nCONTACT: 262-2380\, asp@africa.wisc.
 edu\n\nURL: https://africa.wisc.edu/event/the-man-died-profiling-wole-soyi
 nka/\n\nONLINE: https://uwmadison.zoom.us/j/92324178981?pwd=ixRAMDAgKVZMnW
 5fHLadfmYp4bdpuP.1
LOCATION:206 Ingraham Hall  (Also offered online)
SUMMARY:The Man Died: Profiling Wole Soyinka
URL;VALUE=URI:https://africa.wisc.edu/event/the-man-died-profiling-wole-soy
 inka/
END:VEVENT
BEGIN:VEVENT
DTSTAMP;TZID=America/Chicago:20260421T091312
UID:217459@calendar.wisc.edu
DTSTART;TZID=America/Chicago:20260429T120000
DTEND;TZID=America/Chicago:20260429T130000
DESCRIPTION:Jacqueline-Bethel Tchouta Mougoué — Associate Professor of A
 frican Cultural Studies\, UW-Madison. Jacqueline-Bethel and her students w
 ill be presenting on their exhibit on African fabrics and textiles\, drawi
 ng from their research in the Helen Louise Textile collection&nbsp\;and th
 e&nbsp\;African Commemorative Textiles.\n\nCONTACT: 262-2380\, asp@africa.
 wisc.edu\n\nURL: https://africa.wisc.edu/event/stylin-and-profilin-from-ca
 iro-to-cape-town/\n\nONLINE: https://uwmadison.zoom.us/j/92324178981?pwd=i
 xRAMDAgKVZMnW5fHLadfmYp4bdpuP.1
LOCATION:206 Ingraham Hall  (Also offered online)
SUMMARY:Stylin’ and Profilin’: From Cairo to Cape Town
URL;VALUE=URI:https://africa.wisc.edu/event/stylin-and-profilin-from-cairo-
 to-cape-town/
END:VEVENT
BEGIN:VEVENT
DTSTAMP;TZID=America/Chicago:20260421T091312
UID:216768@calendar.wisc.edu
DTSTART;TZID=America/Chicago:20260511T160000
DTEND;TZID=America/Chicago:20260511T170000
DESCRIPTION:The Gambi that Girma Wore (Ethiopia). Reading and hands-on acti
 vities based on the book.\n\nFor children in K-5 and their caregivers\n\nC
 ONTACT: olagbegiolay@wisc.edu\n\nURL: https://africa.wisc.edu/cash/
LOCATION:Pinney Library (516 Cottage Grove Rd.)
SUMMARY:Children’s African Story Hour (CASH)
URL;VALUE=URI:https://africa.wisc.edu/cash/
END:VEVENT
BEGIN:VEVENT
DTSTAMP;TZID=America/Chicago:20260421T091312
UID:214957@calendar.wisc.edu
DTSTART;TZID=America/Chicago:20261208T160000
DTEND;TZID=America/Chicago:20261208T170000
DESCRIPTION:Book of the Month: ZamZam. Enjoy captivating and award-winning 
 children's literature that celebrates the diversity of art\, \nculture\, f
 ood and language across the African continent. Participants will engage in
  hands-on creative activities and sample different African cuisines. This 
 program is designed for children \nages 3-10 and their caretakers.\n\nCust
 omized programs are also available for schools/libraries. Contact outreach
 @africa.wisc.edu for enquiries and visit africa.wisc.edu/cash to learn mor
 e.\n\nCONTACT: olagbegiolay@wisc.edu\n\nURL: https://africa.wisc.edu/cash/
LOCATION:Pinney Library (516 Cottage Grove Rd.)
SUMMARY:Children’s African Story Hour (CASH)
URL;VALUE=URI:https://africa.wisc.edu/cash/
END:VEVENT
END:VCALENDAR

