BEGIN:VCALENDAR
VERSION:2.0
PRODID:icalendar-ruby
CALSCALE:GREGORIAN
BEGIN:VTIMEZONE
TZID:America/Chicago
BEGIN:DAYLIGHT
DTSTART:20260308T030000
TZOFFSETFROM:-0600
TZOFFSETTO:-0500
RRULE:FREQ=YEARLY;BYDAY=2SU;BYMONTH=3
TZNAME:CDT
END:DAYLIGHT
BEGIN:STANDARD
DTSTART:20261101T010000
TZOFFSETFROM:-0500
TZOFFSETTO:-0600
RRULE:FREQ=YEARLY;BYDAY=1SU;BYMONTH=11
TZNAME:CST
END:STANDARD
END:VTIMEZONE
BEGIN:VEVENT
DTSTAMP;TZID=America/Chicago:20260420T170652
UID:157047@calendar.wisc.edu
DTSTART;TZID=America/Chicago:20260423T170000
DTEND;TZID=America/Chicago:20260423T180000
DESCRIPTION:We are holding an introductory Fulbright US Student Program (FU
 SP) application workshop for interested UW-Madison student\, alumni &amp\;
  staff applicants for the 2027-2028 cycle. In this session we will review 
 the complete application\, paying particular attention to written statemen
 ts. We will review and discuss examples of past successful statements and 
 map out the other components of the application: including letters of reco
 mmendation and affiliations\, language evaluations\, and more.\n\nCONTACT:
  265-6070\, awards@iris.wisc.edu\n\nURL: https://go.wisc.edu/FUSPworkshop\
 n\nONLINE: https://go.wisc.edu/FUSPworkshop
LOCATION:  (Online)
SUMMARY:ONLINE Fulbright US Student Program Application Workshop Overview
URL;VALUE=URI:https://go.wisc.edu/FUSPworkshop
END:VEVENT
END:VCALENDAR

