BEGIN:VCALENDAR
VERSION:2.0
PRODID:icalendar-ruby
CALSCALE:GREGORIAN
BEGIN:VTIMEZONE
TZID:America/Chicago
BEGIN:DAYLIGHT
DTSTART:20260308T030000
TZOFFSETFROM:-0600
TZOFFSETTO:-0500
RRULE:FREQ=YEARLY;BYDAY=2SU;BYMONTH=3
TZNAME:CDT
END:DAYLIGHT
BEGIN:STANDARD
DTSTART:20261101T010000
TZOFFSETFROM:-0500
TZOFFSETTO:-0600
RRULE:FREQ=YEARLY;BYDAY=1SU;BYMONTH=11
TZNAME:CST
END:STANDARD
END:VTIMEZONE
BEGIN:VEVENT
DTSTAMP;TZID=America/Chicago:20260422T195304
UID:221273@calendar.wisc.edu
DTSTART;TZID=America/Chicago:20260518T090000
DTEND;TZID=America/Chicago:20260518T130000
DESCRIPTION:Intro to Image Processing in Python. This hands-on Data Carpent
 ry workshop introduces foundational image processing skills using Python\,
  designed for researchers who want to work more effectively with image-bas
 ed data.\n\nCONTACT: 815-383-3279\, sarah.stevens@wisc.edu\n\nURL: https:/
 /uw-madison-datascience.github.io/2026-05-18-uwmadison-dc/
LOCATION:Orchard View Room\, Discovery Building
SUMMARY:Image Processing Data Carpentry
URL;VALUE=URI:https://uw-madison-datascience.github.io/2026-05-18-uwmadison
 -dc/
END:VEVENT
BEGIN:VEVENT
DTSTAMP;TZID=America/Chicago:20260422T195304
UID:221274@calendar.wisc.edu
DTSTART;TZID=America/Chicago:20260519T090000
DTEND;TZID=America/Chicago:20260519T130000
DESCRIPTION:Intro to Image Processing in Python. This hands-on Data Carpent
 ry workshop introduces foundational image processing skills using Python\,
  designed for researchers who want to work more effectively with image-bas
 ed data.\n\nCONTACT: 815-383-3279\, sarah.stevens@wisc.edu\n\nURL: https:/
 /uw-madison-datascience.github.io/2026-05-18-uwmadison-dc/
LOCATION:Orchard View Room\, Discovery Building
SUMMARY:Image Processing Data Carpentry
URL;VALUE=URI:https://uw-madison-datascience.github.io/2026-05-18-uwmadison
 -dc/
END:VEVENT
BEGIN:VEVENT
DTSTAMP;TZID=America/Chicago:20260422T195304
UID:221275@calendar.wisc.edu
DTSTART;TZID=America/Chicago:20260520T090000
DTEND;TZID=America/Chicago:20260520T130000
DESCRIPTION:Intro to Image Processing in Python. This hands-on Data Carpent
 ry workshop introduces foundational image processing skills using Python\,
  designed for researchers who want to work more effectively with image-bas
 ed data.\n\nCONTACT: 815-383-3279\, sarah.stevens@wisc.edu\n\nURL: https:/
 /uw-madison-datascience.github.io/2026-05-18-uwmadison-dc/
LOCATION:Orchard View Room\, Discovery Building
SUMMARY:Image Processing Data Carpentry
URL;VALUE=URI:https://uw-madison-datascience.github.io/2026-05-18-uwmadison
 -dc/
END:VEVENT
BEGIN:VEVENT
DTSTAMP;TZID=America/Chicago:20260422T195304
UID:221276@calendar.wisc.edu
DTSTART;TZID=America/Chicago:20260521T090000
DTEND;TZID=America/Chicago:20260521T130000
DESCRIPTION:Intro to Image Processing in Python. This hands-on Data Carpent
 ry workshop introduces foundational image processing skills using Python\,
  designed for researchers who want to work more effectively with image-bas
 ed data.\n\nCONTACT: 815-383-3279\, sarah.stevens@wisc.edu\n\nURL: https:/
 /uw-madison-datascience.github.io/2026-05-18-uwmadison-dc/
LOCATION:Orchard View Room\, Discovery Building
SUMMARY:Image Processing Data Carpentry
URL;VALUE=URI:https://uw-madison-datascience.github.io/2026-05-18-uwmadison
 -dc/
END:VEVENT
END:VCALENDAR

