BEGIN:VCALENDAR
VERSION:2.0
PRODID:icalendar-ruby
CALSCALE:GREGORIAN
BEGIN:VTIMEZONE
TZID:America/Chicago
BEGIN:DAYLIGHT
DTSTART:20170312T030000
TZOFFSETFROM:-0600
TZOFFSETTO:-0500
RRULE:FREQ=YEARLY;BYDAY=2SU;BYMONTH=3
TZNAME:CDT
END:DAYLIGHT
BEGIN:STANDARD
DTSTART:20171105T010000
TZOFFSETFROM:-0500
TZOFFSETTO:-0600
RRULE:FREQ=YEARLY;BYDAY=1SU;BYMONTH=11
TZNAME:CST
END:STANDARD
END:VTIMEZONE
BEGIN:VEVENT
DTSTAMP;TZID=America/Chicago:20260422T165219
UID:111758@calendar.wisc.edu
DTSTART;TZID=America/Chicago:20170720T071500
DTEND;TZID=America/Chicago:20170720T081500
DESCRIPTION:Looking to take your yoga practice off the mat? Mornings often 
 mean smooth water\, making Lake Mendota the perfect place for stand-up pad
 dleboard (SUP) yoga! These classes are for every yogi\, whether you are br
 and new to your practice or have been practicing for years! Come join us o
 n the water for your morning yoga fix!Join Us On The lakeThursdays and Fri
 days from 7:15-8:15am and Saturdays and Sundays from 8:30-9:30am!Things to
  know:No experience needed! However\, you must be 18 years of age or older
 .\nBoard rental and life jackets are included in the registration cost.\nC
 heck-in at the Outdoor UW service desk at least 15 minutes early.\nWear co
 mfortable clothing suitable for water. We like wearing athletic shorts/leg
 gings and an athletic top.\nBathrooms\, showers\, and lockers are availabl
 e. Lockers are 25 cents so please bring a quarter.\nWeather cancellations 
 will be made at least 1 hour before the start of class.\nWant to give it a
  try?Register Now&nbsp\;Learn more about yoga with Outdoor UW.\n\nURL: htt
 ps://union.wisc.edu/events-and-activities/event-calendar/event/sup-yoga/20
 17-07-20
LOCATION:The Terrace\, Memorial Union
SUMMARY:Weekday SUP Yoga
URL;VALUE=URI:https://union.wisc.edu/events-and-activities/event-calendar/e
 vent/sup-yoga/2017-07-20
END:VEVENT
END:VCALENDAR

