BEGIN:VCALENDAR
VERSION:2.0
PRODID:icalendar-ruby
CALSCALE:GREGORIAN
BEGIN:VTIMEZONE
TZID:America/Chicago
BEGIN:DAYLIGHT
DTSTART:20220313T030000
TZOFFSETFROM:-0600
TZOFFSETTO:-0500
RRULE:FREQ=YEARLY;BYDAY=2SU;BYMONTH=3
TZNAME:CDT
END:DAYLIGHT
BEGIN:STANDARD
DTSTART:20221106T010000
TZOFFSETFROM:-0500
TZOFFSETTO:-0600
RRULE:FREQ=YEARLY;BYDAY=1SU;BYMONTH=11
TZNAME:CST
END:STANDARD
END:VTIMEZONE
BEGIN:VEVENT
DTSTAMP;TZID=America/Chicago:20260422T100616
UID:173690@calendar.wisc.edu
DTSTART;TZID=America/Chicago:20220928T163000
DTEND;TZID=America/Chicago:20220928T173000
DESCRIPTION:Olivia S Mitchell Hilldale Lecture. As the world confronts unpr
 ecedented global aging\, academics and policymakers are growing increasing
 ly aware of the need for better risk management tools to manage the demogr
 aphic transition. It is critical to identify innovative insurance and fina
 ncial market products that can enrich the range of options for households\
 , employers\, and governments facing the challenges of an aging population
 . After outlining thoughts on how rising longevity is shaping financial ma
 rkets\, we discuss opportunities\n\nURL: https://cdha.wisc.edu/wp-content/
 uploads/sites/873/2022/09/Olivia-Mitchell-Hilldale-CDHA-2022-3.png
SUMMARY:New Developments in Retirement Risk Management
URL;VALUE=URI:https://cdha.wisc.edu/wp-content/uploads/sites/873/2022/09/Ol
 ivia-Mitchell-Hilldale-CDHA-2022-3.png
END:VEVENT
END:VCALENDAR

