BEGIN:VCALENDAR
VERSION:2.0
PRODID:icalendar-ruby
CALSCALE:GREGORIAN
BEGIN:VTIMEZONE
TZID:America/Chicago
BEGIN:DAYLIGHT
DTSTART:20250309T030000
TZOFFSETFROM:-0600
TZOFFSETTO:-0500
RRULE:FREQ=YEARLY;BYDAY=2SU;BYMONTH=3
TZNAME:CDT
END:DAYLIGHT
BEGIN:STANDARD
DTSTART:20241103T010000
TZOFFSETFROM:-0500
TZOFFSETTO:-0600
RRULE:FREQ=YEARLY;BYDAY=1SU;BYMONTH=11
TZNAME:CST
END:STANDARD
END:VTIMEZONE
BEGIN:VEVENT
DTSTAMP;TZID=America/Chicago:20260424T160526
UID:197616@calendar.wisc.edu
DTSTART;TZID=America/Chicago:20241105T160000
DTEND;TZID=America/Chicago:20241105T170000
DESCRIPTION:Distinguished Lectures by Maksym Radziwill (Northwestern) - The
  Riemann zeta-function. I will introduce some of the basic properties of t
 he Riemann zeta-function and discuss their arithmetic meaning. I will then
  explain how these basic properties lead to the Riemann Hypothesis and its
  significance. Finally I will explain in what circumstances we expect anal
 ogues of the Riemann Hypothesis to be true and what happens when we don't 
 expect such analogues to hold.&nbsp\;\n\nURL: https://wiki.math.wisc.edu/i
 ndex.php/Colloquia/Fall_2024
LOCATION:1313 Sterling Hall
SUMMARY:Math Department Colloquium
URL;VALUE=URI:https://wiki.math.wisc.edu/index.php/Colloquia/Fall_2024
END:VEVENT
END:VCALENDAR

