BEGIN:VCALENDAR
VERSION:2.0
PRODID:icalendar-ruby
CALSCALE:GREGORIAN
BEGIN:VTIMEZONE
TZID:America/Chicago
BEGIN:DAYLIGHT
DTSTART:20260308T030000
TZOFFSETFROM:-0600
TZOFFSETTO:-0500
RRULE:FREQ=YEARLY;BYDAY=2SU;BYMONTH=3
TZNAME:CDT
END:DAYLIGHT
BEGIN:STANDARD
DTSTART:20261101T010000
TZOFFSETFROM:-0500
TZOFFSETTO:-0600
RRULE:FREQ=YEARLY;BYDAY=1SU;BYMONTH=11
TZNAME:CST
END:STANDARD
END:VTIMEZONE
BEGIN:VEVENT
DTSTAMP;TZID=America/Chicago:20260420T011151
UID:220845@calendar.wisc.edu
DTSTART;TZID=America/Chicago:20260406T120000
DTEND;TZID=America/Chicago:20260406T130000
DESCRIPTION:Dr Niina Vuolajärvi is Assistant Professor in International Mi
 gration at the European Institute. She is working on her first book "Sex W
 ork\, Migration and the ‘Nordic Model’" which examines a feminist-insp
 ired prostitution and anti-trafficking policy approach and its intersectio
 ns with immigration controls from the perspective of sex workers and peopl
 e in the sex trade.\n\nCONTACT: 265-8040\, europe@international.wisc.edu\n
 \nURL: https://europe.wisc.edu/event/niina-vuolajarvi/
LOCATION:260 Bascom Hall
SUMMARY:Niina Vuolajärvi
URL;VALUE=URI:https://europe.wisc.edu/event/niina-vuolajarvi/
END:VEVENT
END:VCALENDAR

