BEGIN:VCALENDAR
VERSION:2.0
PRODID:icalendar-ruby
CALSCALE:GREGORIAN
BEGIN:VTIMEZONE
TZID:America/Chicago
BEGIN:DAYLIGHT
DTSTART:20260308T030000
TZOFFSETFROM:-0600
TZOFFSETTO:-0500
RRULE:FREQ=YEARLY;BYDAY=2SU;BYMONTH=3
TZNAME:CDT
END:DAYLIGHT
BEGIN:STANDARD
DTSTART:20261101T010000
TZOFFSETFROM:-0500
TZOFFSETTO:-0600
RRULE:FREQ=YEARLY;BYDAY=1SU;BYMONTH=11
TZNAME:CST
END:STANDARD
END:VTIMEZONE
BEGIN:VEVENT
DTSTAMP;TZID=America/Chicago:20260421T091251
UID:221059@calendar.wisc.edu
DTSTART;TZID=America/Chicago:20260426T160000
DTEND;TZID=America/Chicago:20260426T190000
DESCRIPTION:Senior Class Office. As the sun sets on our final year\, we’r
 e coming together one more time for community centered around good vibes. 
 Join us for an evening of fun\, games\, music\, and prizes as we celebrate
  everything we’ve built together and the people who made these four year
 s feel like home. A soft close to a big chapter.\n\nThis is a free event! 
 Register in the link below.\n\nCONTACT: 414-312-1243\, agmarquez2@wisc.edu
 \n\nURL: https://uwmadison.eventsair.com/senior-sunset/reg/Site/Register
LOCATION:Sunset Lounge\, Memorial Union
SUMMARY:Senior Sunset
URL;VALUE=URI:https://uwmadison.eventsair.com/senior-sunset/reg/Site/Regist
 er
END:VEVENT
END:VCALENDAR

