BEGIN:VCALENDAR
VERSION:2.0
PRODID:icalendar-ruby
CALSCALE:GREGORIAN
BEGIN:VTIMEZONE
TZID:America/Chicago
BEGIN:DAYLIGHT
DTSTART:20260308T030000
TZOFFSETFROM:-0600
TZOFFSETTO:-0500
RRULE:FREQ=YEARLY;BYDAY=2SU;BYMONTH=3
TZNAME:CDT
END:DAYLIGHT
BEGIN:STANDARD
DTSTART:20261101T010000
TZOFFSETFROM:-0500
TZOFFSETTO:-0600
RRULE:FREQ=YEARLY;BYDAY=1SU;BYMONTH=11
TZNAME:CST
END:STANDARD
END:VTIMEZONE
BEGIN:VEVENT
DTSTAMP;TZID=America/Chicago:20260420T173402
UID:221171@calendar.wisc.edu
DTSTART;TZID=America/Chicago:20260422T130000
DTEND;TZID=America/Chicago:20260422T140000
DESCRIPTION:Prof Yannis Ioannidis (President of ACM) will be joining us for
  a fireside chat about AI and the future of computing. The chat will be ho
 sted by Prof Remzi Arpaci-Dusseau. Join us for what should be a lively dis
 cussion (with time for Q&amp\;A) about where technology is heading.\n\nCON
 TACT: 335-2928\, remzi@cs.wisc.edu
LOCATION:7th Floor Seminar Room\, Morgridge Hall
SUMMARY:Fireside Chat about AI and the Future of Computing
END:VEVENT
END:VCALENDAR

