BEGIN:VCALENDAR
VERSION:2.0
PRODID:icalendar-ruby
CALSCALE:GREGORIAN
BEGIN:VTIMEZONE
TZID:America/Chicago
BEGIN:DAYLIGHT
DTSTART:20260308T030000
TZOFFSETFROM:-0600
TZOFFSETTO:-0500
RRULE:FREQ=YEARLY;BYDAY=2SU;BYMONTH=3
TZNAME:CDT
END:DAYLIGHT
BEGIN:STANDARD
DTSTART:20261101T010000
TZOFFSETFROM:-0500
TZOFFSETTO:-0600
RRULE:FREQ=YEARLY;BYDAY=1SU;BYMONTH=11
TZNAME:CST
END:STANDARD
END:VTIMEZONE
BEGIN:VEVENT
DTSTAMP;TZID=America/Chicago:20260420T182423
UID:221173@calendar.wisc.edu
DTSTART;TZID=America/Chicago:20260507T130000
DTEND;TZID=America/Chicago:20260507T133000
DESCRIPTION:Join CPED Program Director Scott Converse and instructor Amber 
 Buschmann for an informational overview of Project Management Essentials\,
  a practical\, one-day\, action-based program designed to help professiona
 ls build the foundational skills needed to manage project work more effect
 ively.\n\nCONTACT: 800-292-8964\, webinars@uwcped.org\n\nURL: https://uwcp
 ed-org.zoom.us/webinar/register/2217757510333/WN_5Bh4-XKFQE-IRIPxV2T3TQ\n\
 nONLINE: https://uwcped-org.zoom.us/webinar/register/2217757510333/WN_5Bh4
 -XKFQE-IRIPxV2T3TQ
LOCATION:  (Online)
SUMMARY:WEBINAR: We All Manage Projects—Build the Skills to Do Them Well:
  Inside Project Management Essentials
URL;VALUE=URI:https://uwcped-org.zoom.us/webinar/register/2217757510333/WN_
 5Bh4-XKFQE-IRIPxV2T3TQ
END:VEVENT
END:VCALENDAR

