BEGIN:VCALENDAR
VERSION:2.0
PRODID:icalendar-ruby
CALSCALE:GREGORIAN
BEGIN:VTIMEZONE
TZID:America/Chicago
BEGIN:DAYLIGHT
DTSTART:20260308T030000
TZOFFSETFROM:-0600
TZOFFSETTO:-0500
RRULE:FREQ=YEARLY;BYDAY=2SU;BYMONTH=3
TZNAME:CDT
END:DAYLIGHT
BEGIN:STANDARD
DTSTART:20261101T010000
TZOFFSETFROM:-0500
TZOFFSETTO:-0600
RRULE:FREQ=YEARLY;BYDAY=1SU;BYMONTH=11
TZNAME:CST
END:STANDARD
END:VTIMEZONE
BEGIN:VEVENT
DTSTAMP;TZID=America/Chicago:20260420T200300
UID:221174@calendar.wisc.edu
DTSTART;TZID=America/Chicago:20260424T100000
DTEND;TZID=America/Chicago:20260424T110000
DESCRIPTION:Broadening Participation in CS through Examining Media and Peda
 gogy (Andrea Watkins\, PhD Student @UIUC). Andrea Watkins (Advised by Coll
 een Lewis) from UIUC will be presenting her interdisciplinary work on port
 rayals of CS careers on social media and how it contributes to the formati
 on of occupational identity in computer science and ultimately how it can 
 shape students' interest\, participation\, and persistence.\n\nCONTACT: me
 jensen5@wisc.edu\n\nONLINE: https://uwmadison.zoom.us/j/96270006698?pwd=p6
 1zX9SpBRqofpJJZ11yn9R1zFuvVb.1#success
LOCATION:6530 Morgridge Hall  (Also offered online)
SUMMARY:CS EDU  Seminar
END:VEVENT
END:VCALENDAR

