BEGIN:VCALENDAR
VERSION:2.0
PRODID:icalendar-ruby
CALSCALE:GREGORIAN
BEGIN:VTIMEZONE
TZID:America/Chicago
BEGIN:DAYLIGHT
DTSTART:20260308T030000
TZOFFSETFROM:-0600
TZOFFSETTO:-0500
RRULE:FREQ=YEARLY;BYDAY=2SU;BYMONTH=3
TZNAME:CDT
END:DAYLIGHT
BEGIN:STANDARD
DTSTART:20261101T010000
TZOFFSETFROM:-0500
TZOFFSETTO:-0600
RRULE:FREQ=YEARLY;BYDAY=1SU;BYMONTH=11
TZNAME:CST
END:STANDARD
END:VTIMEZONE
BEGIN:VEVENT
DTSTAMP;TZID=America/Chicago:20260420T182452
UID:221175@calendar.wisc.edu
DTSTART;TZID=America/Chicago:20260422T173000
DTEND;TZID=America/Chicago:20260422T190000
DESCRIPTION:A Dialogue between UW-Madison Students and Madison Community Me
 mbers. We believe that opening up dialogue between community members can l
 ead to not only a deeper sense of belonging\, but also a greater sense of 
 accountability and action for the common good in that community. This sess
 ion is an opportunity to be in conversation with members of the Madison co
 mmunity involved in immigrant and refugee resettlement and support in Wisc
 onsin.\n\nCONTACT: 890-2134\, lara.miller@wisc.edu\n\nURL: https://givepul
 .se/fe9mhr
LOCATION:154 - Morgridge Center for Public Service\, Armory and Gymnasium (
 Red Gym)
SUMMARY:Who's Your Neighbor?-Immigrant Support and Advocacy
URL;VALUE=URI:https://givepul.se/fe9mhr
END:VEVENT
END:VCALENDAR

