BEGIN:VCALENDAR
VERSION:2.0
PRODID:icalendar-ruby
CALSCALE:GREGORIAN
BEGIN:VTIMEZONE
TZID:America/Chicago
BEGIN:DAYLIGHT
DTSTART:20260308T030000
TZOFFSETFROM:-0600
TZOFFSETTO:-0500
RRULE:FREQ=YEARLY;BYDAY=2SU;BYMONTH=3
TZNAME:CDT
END:DAYLIGHT
BEGIN:STANDARD
DTSTART:20261101T010000
TZOFFSETFROM:-0500
TZOFFSETTO:-0600
RRULE:FREQ=YEARLY;BYDAY=1SU;BYMONTH=11
TZNAME:CST
END:STANDARD
END:VTIMEZONE
BEGIN:VEVENT
DTSTAMP;TZID=America/Chicago:20260420T182346
UID:221176@calendar.wisc.edu
DTSTART;TZID=America/Chicago:20260722T100000
DTEND;TZID=America/Chicago:20260722T110000
DESCRIPTION:Presenter Stanley Temple. This is a free\, virtual talk hosted 
 on July 22\, 2026 at 10:00 AM by the Aging and Disability Resource Center 
 of Brown County. More information to come on accessing this event.\nProfes
 sor Stan Temple reveals dozens of engaging stories behind Leopold’s essa
 ys and explains why the book’s timeless yet timely message still resonat
 es 70 years after it was first published.\n\nCONTACT: 263-7793\, badgertal
 ks@uwmad.wisc.edu\n\nURL: https://www.facebook.com/share/1ETH997gaf/
SUMMARY:"Stories Behind the Essays in Aldo Leopold's A Sand County Almanac"
 : Virtual Badger Talk
URL;VALUE=URI:https://www.facebook.com/share/1ETH997gaf/
END:VEVENT
END:VCALENDAR

