BEGIN:VCALENDAR
VERSION:2.0
PRODID:icalendar-ruby
CALSCALE:GREGORIAN
BEGIN:VTIMEZONE
TZID:America/Chicago
BEGIN:DAYLIGHT
DTSTART:20260308T030000
TZOFFSETFROM:-0600
TZOFFSETTO:-0500
RRULE:FREQ=YEARLY;BYDAY=2SU;BYMONTH=3
TZNAME:CDT
END:DAYLIGHT
BEGIN:STANDARD
DTSTART:20261101T010000
TZOFFSETFROM:-0500
TZOFFSETTO:-0600
RRULE:FREQ=YEARLY;BYDAY=1SU;BYMONTH=11
TZNAME:CST
END:STANDARD
END:VTIMEZONE
BEGIN:VEVENT
DTSTAMP;TZID=America/Chicago:20260423T230539
UID:221177@calendar.wisc.edu
DTSTART;TZID=America/Chicago:20260508T120000
DTEND;TZID=America/Chicago:20260508T130000
DESCRIPTION:An Introduction to Implementation Laboratories. In this present
 ation\, Dr. Noah Ivers will introduce the concept of implementation labora
 tories and describe the advances that have emerged from the Audit &amp\; F
 eedback Lab. Drs. Sarina Schrager and Robert Greenlee will describe the lo
 cal research resources their networks provide\, the priorities of the clin
 ical groups within their networks\, and how one can propose implementation
  projects to be conducted in their networks.\n\nCONTACT: di-launchpad@ictr
 .wisc.edu\n\nURL: https://ictr.wisc.edu/event/implementation-science-semin
 ar-an-introduction-to-implementation-laboratories/\n\nONLINE: https://uwma
 dison.zoom.us/meeting/register/5eGfEpMCRZOAHFqr1NKrKQ#/registration
LOCATION:  (Online)
SUMMARY:Implementation Science Seminar
URL;VALUE=URI:https://ictr.wisc.edu/event/implementation-science-seminar-an
 -introduction-to-implementation-laboratories/
END:VEVENT
END:VCALENDAR

