BEGIN:VCALENDAR
VERSION:2.0
PRODID:icalendar-ruby
CALSCALE:GREGORIAN
BEGIN:VTIMEZONE
TZID:America/Chicago
BEGIN:DAYLIGHT
DTSTART:20260308T030000
TZOFFSETFROM:-0600
TZOFFSETTO:-0500
RRULE:FREQ=YEARLY;BYDAY=2SU;BYMONTH=3
TZNAME:CDT
END:DAYLIGHT
BEGIN:STANDARD
DTSTART:20261101T010000
TZOFFSETFROM:-0500
TZOFFSETTO:-0600
RRULE:FREQ=YEARLY;BYDAY=1SU;BYMONTH=11
TZNAME:CST
END:STANDARD
END:VTIMEZONE
BEGIN:VEVENT
DTSTAMP;TZID=America/Chicago:20260423T230848
UID:221178@calendar.wisc.edu
DTSTART;TZID=America/Chicago:20260504T120000
DTEND;TZID=America/Chicago:20260504T130000
DESCRIPTION:Presentation by Irene Ong. Madison AI for Proteins (MAIP) prese
 ntation. See https://mad-ai-proteins.github.io/ to RSVP in advance if lunc
 h is requested.\n\nCONTACT: 316-4442\, gitter@biostat.wisc.edu\n\nURL: htt
 ps://mad-ai-proteins.github.io/
LOCATION:1109 McArdle Building
SUMMARY:TCR-ECHO: evolutionary cross-attention with physicochemical bias fo
 r hierarchical TCR-peptide binding prediction
URL;VALUE=URI:https://mad-ai-proteins.github.io/
END:VEVENT
END:VCALENDAR

