BEGIN:VCALENDAR
VERSION:2.0
PRODID:icalendar-ruby
CALSCALE:GREGORIAN
BEGIN:VTIMEZONE
TZID:America/Chicago
BEGIN:DAYLIGHT
DTSTART:20260308T030000
TZOFFSETFROM:-0600
TZOFFSETTO:-0500
RRULE:FREQ=YEARLY;BYDAY=2SU;BYMONTH=3
TZNAME:CDT
END:DAYLIGHT
BEGIN:STANDARD
DTSTART:20261101T010000
TZOFFSETFROM:-0500
TZOFFSETTO:-0600
RRULE:FREQ=YEARLY;BYDAY=1SU;BYMONTH=11
TZNAME:CST
END:STANDARD
END:VTIMEZONE
BEGIN:VEVENT
DTSTAMP;TZID=America/Chicago:20260420T220009
UID:221180@calendar.wisc.edu
DTSTART;TZID=America/Chicago:20260728T180000
DTEND;TZID=America/Chicago:20260728T190000
DESCRIPTION:Presenter Sissel Schroeder. This is a free\, in-person talk hos
 ted on July 28\, 2026 at 6:00 PM by Fitchburg Public Library in Fitchburg\
 , WI. No registration necessary. This talk will not be available virtually
 .\nThe Wisconsin Dugout Canoe Survey Project highlights the persistence of
  cultural traditions and technological ingenuity. It embodies the Wisconsi
 n Idea by engaging local and national museums\, historical societies\, and
  tribal museums in this project that is documenting an important yet rare 
 form of material culture.\n\nCONTACT: 263-7793\, badgertalks@uwmad.wisc.ed
 u\n\nURL: https://www.facebook.com/share/1CqsunaAJX/
LOCATION:5330 Lacy Rd\, Fitchburg\, WI 53711-5318\, United States
SUMMARY:"From Wood to Watercraft: Dugout Canoes of Wisconsin": In-Person Ba
 dger Talk in Fitchburg\, WI
URL;VALUE=URI:https://www.facebook.com/share/1CqsunaAJX/
END:VEVENT
END:VCALENDAR

