BEGIN:VCALENDAR
VERSION:2.0
PRODID:icalendar-ruby
CALSCALE:GREGORIAN
BEGIN:VTIMEZONE
TZID:America/Chicago
BEGIN:DAYLIGHT
DTSTART:20260308T030000
TZOFFSETFROM:-0600
TZOFFSETTO:-0500
RRULE:FREQ=YEARLY;BYDAY=2SU;BYMONTH=3
TZNAME:CDT
END:DAYLIGHT
BEGIN:STANDARD
DTSTART:20261101T010000
TZOFFSETFROM:-0500
TZOFFSETTO:-0600
RRULE:FREQ=YEARLY;BYDAY=1SU;BYMONTH=11
TZNAME:CST
END:STANDARD
END:VTIMEZONE
BEGIN:VEVENT
DTSTAMP;TZID=America/Chicago:20260420T215940
UID:221182@calendar.wisc.edu
DTSTART;TZID=America/Chicago:20260701T090000
DTEND;TZID=America/Chicago:20260701T120000
DESCRIPTION:Arboretum. Join our accessible yet in-depth introduction to Wis
 consin prairie plant identification. Learn about key plant features\, shar
 ed family and genus characteristics\, and tips to aid identification. Acti
 vities begin indoors then move outside for practice. Instructor: Micah Klo
 ppenburg\, ecological restoration outreach coordinator. Fee: $40. Register
  by June 28. Meet at the Visitor Center. See also June 27 class.\n\nCONTAC
 T: 263-7888\, info@arboretum.wisc.edu\n\nURL: https://arboretum.wisc.edu/l
 earn/adult-education/classes/
LOCATION:Meet at Visitor Center\, UW–Madison Arboretum
SUMMARY:Class: Introduction to Prairie Plant Identification
URL;VALUE=URI:https://arboretum.wisc.edu/learn/adult-education/classes/
END:VEVENT
END:VCALENDAR

