BEGIN:VCALENDAR
VERSION:2.0
PRODID:icalendar-ruby
CALSCALE:GREGORIAN
BEGIN:VTIMEZONE
TZID:America/Chicago
BEGIN:DAYLIGHT
DTSTART:20260308T030000
TZOFFSETFROM:-0600
TZOFFSETTO:-0500
RRULE:FREQ=YEARLY;BYDAY=2SU;BYMONTH=3
TZNAME:CDT
END:DAYLIGHT
BEGIN:STANDARD
DTSTART:20261101T010000
TZOFFSETFROM:-0500
TZOFFSETTO:-0600
RRULE:FREQ=YEARLY;BYDAY=1SU;BYMONTH=11
TZNAME:CST
END:STANDARD
END:VTIMEZONE
BEGIN:VEVENT
DTSTAMP;TZID=America/Chicago:20260423T230620
UID:221185@calendar.wisc.edu
DTSTART;TZID=America/Chicago:20260501T100000
DTEND;TZID=America/Chicago:20260501T160000
DESCRIPTION:Study. Eat. Relax. Succeed. \n\nJoin us at Spring Red Gym Study
  Jam for free food\, study vibes\, and friends! \nEnjoy breakfast at 10:30
 am and lunch at 1:30pm (while supplies last)\n\nCONTACT: 262-4503\, msc@st
 udentaffairs.wisc.edu
LOCATION:Armory and Gymnasium (Red Gym)
SUMMARY:Multicultural Student Center Study Jam
END:VEVENT
END:VCALENDAR

