BEGIN:VCALENDAR
VERSION:2.0
PRODID:icalendar-ruby
CALSCALE:GREGORIAN
BEGIN:VTIMEZONE
TZID:America/Chicago
BEGIN:DAYLIGHT
DTSTART:20260308T030000
TZOFFSETFROM:-0600
TZOFFSETTO:-0500
RRULE:FREQ=YEARLY;BYDAY=2SU;BYMONTH=3
TZNAME:CDT
END:DAYLIGHT
BEGIN:STANDARD
DTSTART:20261101T010000
TZOFFSETFROM:-0500
TZOFFSETTO:-0600
RRULE:FREQ=YEARLY;BYDAY=1SU;BYMONTH=11
TZNAME:CST
END:STANDARD
END:VTIMEZONE
BEGIN:VEVENT
DTSTAMP;TZID=America/Chicago:20260421T064423
UID:221186@calendar.wisc.edu
DTSTART;TZID=America/Chicago:20260606T090000
DTEND;TZID=America/Chicago:20260606T120000
DESCRIPTION:Arboretum Curtis Prairie Area. Volunteer for restoration activi
 ties in prairies\, savannas\, and woodlands. Tools and training provided. 
 Groups welcome with advance notice. Meet at the Visitor Center. Event capa
 city is limited\, please arrive by 9 a.m. More information: (608) 265-5214
  or mkloppenburg@wisc.edu.\n\nCONTACT: 265-5214\, mkloppenburg@wisc.edu\n\
 nURL: https://arboretum.wisc.edu/get-involved/volunteer/work-parties/
LOCATION:Meet at Visitor Center\, UW–Madison Arboretum
SUMMARY:Ecological Restoration Work Party
URL;VALUE=URI:https://arboretum.wisc.edu/get-involved/volunteer/work-partie
 s/
END:VEVENT
END:VCALENDAR

