BEGIN:VCALENDAR
VERSION:2.0
PRODID:icalendar-ruby
CALSCALE:GREGORIAN
BEGIN:VTIMEZONE
TZID:America/Chicago
BEGIN:DAYLIGHT
DTSTART:20260308T030000
TZOFFSETFROM:-0600
TZOFFSETTO:-0500
RRULE:FREQ=YEARLY;BYDAY=2SU;BYMONTH=3
TZNAME:CDT
END:DAYLIGHT
BEGIN:STANDARD
DTSTART:20261101T010000
TZOFFSETFROM:-0500
TZOFFSETTO:-0600
RRULE:FREQ=YEARLY;BYDAY=1SU;BYMONTH=11
TZNAME:CST
END:STANDARD
END:VTIMEZONE
BEGIN:VEVENT
DTSTAMP;TZID=America/Chicago:20260421T120902
UID:221190@calendar.wisc.edu
DTSTART;TZID=America/Chicago:20260428T160000
DTEND;TZID=America/Chicago:20260428T180000
DESCRIPTION:Thrive Workshop Series: Thrive Workshops offers students opport
 unities to build skills and gain tools to support academic performance\, r
 elationships\, and overall wellbeing. During a Thrive Workshop\, a UHS Men
 tal Health provider will present on a topic that is relevant to your stude
 nt experience. Can’t make it? Learn more about test anxiety on  Thrive O
 nline !\n\nCONTACT: mmichaels2@wisc.edu\n\nURL: https://union.wisc.edu/eve
 nts-and-activities/event-calendar/event/thrive-workshop-test-anxiety-and-d
 iy-wellness-kits
LOCATION:The Well - Room 233\, Union South
SUMMARY:Thrive Workshop: Test Anxiety and DIY Wellness Kits
URL;VALUE=URI:https://union.wisc.edu/events-and-activities/event-calendar/e
 vent/thrive-workshop-test-anxiety-and-diy-wellness-kits
END:VEVENT
END:VCALENDAR

