BEGIN:VCALENDAR
VERSION:2.0
PRODID:icalendar-ruby
CALSCALE:GREGORIAN
BEGIN:VTIMEZONE
TZID:America/Chicago
BEGIN:DAYLIGHT
DTSTART:20260308T030000
TZOFFSETFROM:-0600
TZOFFSETTO:-0500
RRULE:FREQ=YEARLY;BYDAY=2SU;BYMONTH=3
TZNAME:CDT
END:DAYLIGHT
BEGIN:STANDARD
DTSTART:20261101T010000
TZOFFSETFROM:-0500
TZOFFSETTO:-0600
RRULE:FREQ=YEARLY;BYDAY=1SU;BYMONTH=11
TZNAME:CST
END:STANDARD
END:VTIMEZONE
BEGIN:VEVENT
DTSTAMP;TZID=America/Chicago:20260421T120439
UID:221191@calendar.wisc.edu
DTSTART;TZID=America/Chicago:20260429T170000
DTEND;TZID=America/Chicago:20260429T180000
DESCRIPTION:Join jazz legends Chucho Valdés and Paquito D’Rivera for an 
 intimate conversation on artistry\, resilience\, and the power of a 60-yea
 r bond. Their story is unlike any other: two icons whose careers spanned c
 ontinents and decades\, yet remained tethered by friendship. After years o
 f following separate paths across the globe\, they finally reunite to shar
 e the stage—and their years of wisdom behind the creation of the once-in
 -a-lifetime experience\, the Chucho Valdés &amp\; Paquito D’Rivera Reun
 ion Sextet. As with all our Interdisciplinary Arts Community Sessions\, th
 is event is free\, and tickets are not required\, however space is limited
 . This special conversation will be moderated by scholar and bass professo
 r Nick Moran\, as well as the founder of WORT’s La Junta radio program\,
  Ricardo Gonzalez.&nbsp\;\n\nURL: https://union.wisc.edu/events-and-activi
 ties/event-calendar/event/interdisciplinary-arts-community-sessions-iacs-c
 hucho
LOCATION:Shannon Hall\, Memorial Union
SUMMARY:Interdisciplinary Arts Community Sessions (IACS) with Chucho Valdé
 s & Paquito D’Rivera
URL;VALUE=URI:https://union.wisc.edu/events-and-activities/event-calendar/e
 vent/interdisciplinary-arts-community-sessions-iacs-chucho
END:VEVENT
END:VCALENDAR

