BEGIN:VCALENDAR
VERSION:2.0
PRODID:icalendar-ruby
CALSCALE:GREGORIAN
BEGIN:VTIMEZONE
TZID:America/Chicago
BEGIN:DAYLIGHT
DTSTART:20260308T030000
TZOFFSETFROM:-0600
TZOFFSETTO:-0500
RRULE:FREQ=YEARLY;BYDAY=2SU;BYMONTH=3
TZNAME:CDT
END:DAYLIGHT
BEGIN:STANDARD
DTSTART:20261101T010000
TZOFFSETFROM:-0500
TZOFFSETTO:-0600
RRULE:FREQ=YEARLY;BYDAY=1SU;BYMONTH=11
TZNAME:CST
END:STANDARD
END:VTIMEZONE
BEGIN:VEVENT
DTSTAMP;TZID=America/Chicago:20260423T230443
UID:221192@calendar.wisc.edu
DTSTART;TZID=America/Chicago:20260430T173000
DTEND;TZID=America/Chicago:20260430T183000
DESCRIPTION:Peace Corps Recruiting Office. Join the Peace Corps Advocates R
 SO and the Campus Peace Corps recruiter for a few rounds of Geography Triv
 ia.  Trivia will be focused on the areas of the world where Peace Corps se
 rves or has served.  Win fabulous prizes!  Have fun with fellow students i
 nterested in international affairs!\n\nCONTACT: 262-1121\, peacecorps@inte
 rnational.wisc.edu
LOCATION:TBD Meeting Room\, Memorial Union
SUMMARY:Geography Trivia with the Peace Corps Advocates
END:VEVENT
END:VCALENDAR

