BEGIN:VCALENDAR
VERSION:2.0
PRODID:icalendar-ruby
CALSCALE:GREGORIAN
BEGIN:VTIMEZONE
TZID:America/Chicago
BEGIN:DAYLIGHT
DTSTART:20260308T030000
TZOFFSETFROM:-0600
TZOFFSETTO:-0500
RRULE:FREQ=YEARLY;BYDAY=2SU;BYMONTH=3
TZNAME:CDT
END:DAYLIGHT
BEGIN:STANDARD
DTSTART:20261101T010000
TZOFFSETFROM:-0500
TZOFFSETTO:-0600
RRULE:FREQ=YEARLY;BYDAY=1SU;BYMONTH=11
TZNAME:CST
END:STANDARD
END:VTIMEZONE
BEGIN:VEVENT
DTSTAMP;TZID=America/Chicago:20260423T230509
UID:221197@calendar.wisc.edu
DTSTART;TZID=America/Chicago:20260427T100000
DTEND;TZID=America/Chicago:20260427T170000
DESCRIPTION:This semester\, 300 students are enrolled in a large lecture co
 urse called Social Media Writing (English 178)\, taught by Prof. Ainehi Ed
 oro. Most of them (most of us) spend hours a day on these platforms withou
 t really stopping to think about how they work. Students move the digital 
 worlds they have created on Instagram into a physical exhibition space. \n
 \nGallery opens at 10am. Reception: 3–5pm\, with refreshments.\n\nCONTAC
 T: 890-4556\, samzpustol@wisc.edu\n\nURL: https://constellations.ls.wisc.e
 du
LOCATION:7191 Helen C. White Hall
SUMMARY:Exhibition: Social Media as a Way of Knowing
URL;VALUE=URI:https://constellations.ls.wisc.edu
END:VEVENT
END:VCALENDAR

