BEGIN:VCALENDAR
VERSION:2.0
PRODID:icalendar-ruby
CALSCALE:GREGORIAN
BEGIN:VTIMEZONE
TZID:America/Chicago
BEGIN:DAYLIGHT
DTSTART:20260308T030000
TZOFFSETFROM:-0600
TZOFFSETTO:-0500
RRULE:FREQ=YEARLY;BYDAY=2SU;BYMONTH=3
TZNAME:CDT
END:DAYLIGHT
BEGIN:STANDARD
DTSTART:20261101T010000
TZOFFSETFROM:-0500
TZOFFSETTO:-0600
RRULE:FREQ=YEARLY;BYDAY=1SU;BYMONTH=11
TZNAME:CST
END:STANDARD
END:VTIMEZONE
BEGIN:VEVENT
DTSTAMP;TZID=America/Chicago:20260423T230640
UID:221216@calendar.wisc.edu
DTSTART;VALUE=DATE:20260506
DTEND;VALUE=DATE:20260507
DESCRIPTION:*Note: actual end time may vary.*  \n What is the Path Forward 
 for Public Higher Education?. Public perception of higher education is fal
 ling\, and college and university leaders have been forced to make the cas
 e about the value of higher education to skeptical taxpayers\, parents\, s
 tudents\, and politicians. Our panel will discuss how to move forward in t
 hese challenging times. \n\nThe panelists:\n• State Representative Angel
 a Stroud\n• Greg Summers\, former UW-Stevens Point Provost\n• Raymond 
 Taffora\, former UW-Madison Vice Chancellor for Legal Affairs\n\nCONTACT: 
 698-7427\, mfelber@secfac.wisc.edu\n\nURL: https://profs.wisc.edu/?p=10110
LOCATION:159\, Wisconsin Idea Room\, Education Building
SUMMARY:PROFS Forum
URL;VALUE=URI:https://profs.wisc.edu/?p=10110
END:VEVENT
END:VCALENDAR

