BEGIN:VCALENDAR
VERSION:2.0
PRODID:icalendar-ruby
CALSCALE:GREGORIAN
BEGIN:VTIMEZONE
TZID:America/Chicago
BEGIN:DAYLIGHT
DTSTART:20260308T030000
TZOFFSETFROM:-0600
TZOFFSETTO:-0500
RRULE:FREQ=YEARLY;BYDAY=2SU;BYMONTH=3
TZNAME:CDT
END:DAYLIGHT
BEGIN:STANDARD
DTSTART:20261101T010000
TZOFFSETFROM:-0500
TZOFFSETTO:-0600
RRULE:FREQ=YEARLY;BYDAY=1SU;BYMONTH=11
TZNAME:CST
END:STANDARD
END:VTIMEZONE
BEGIN:VEVENT
DTSTAMP;TZID=America/Chicago:20260422T001847
UID:221217@calendar.wisc.edu
DTSTART;TZID=America/Chicago:20260522T070000
DTEND;TZID=America/Chicago:20260522T080000
DESCRIPTION:Patricia Campos\, MD\, "Stop the Melt: Management of Corneal Pe
 rforations\;" James Law\, MD\, "Sight for Sore Eyes - Orbital Infectious D
 isease". Ophthalmic lectures for clinical professionals. To join us on Zoo
 m\, please click the "Online" hyperlink. Faculty\, trainees\, and guest sp
 eakers present and discuss various topics to improve competency and knowle
 dge of eye disease. This weekly event\, conducted year-round\, provides co
 ntinuing medical education credits for ophthalmologists and continuing edu
 cation credits for optometrists.\n\nCONTACT: dapillath@wisc.edu\n\nURL: ht
 tps://uwmadison.zoom.us/j/95896072184?pwd=F8ijBP6bsrjdWba3rbmYy4z8vRSURF.1
 \n\nONLINE: https://uwmadison.zoom.us/j/95896072184?pwd=F8ijBP6bsrjdWba3rb
 mYy4z8vRSURF.1
LOCATION:  (Online)
SUMMARY:Ophthalmology Grand Rounds - Virtual
URL;VALUE=URI:https://uwmadison.zoom.us/j/95896072184?pwd=F8ijBP6bsrjdWba3r
 bmYy4z8vRSURF.1
END:VEVENT
END:VCALENDAR

