BEGIN:VCALENDAR
VERSION:2.0
PRODID:icalendar-ruby
CALSCALE:GREGORIAN
BEGIN:VTIMEZONE
TZID:America/Chicago
BEGIN:DAYLIGHT
DTSTART:20260308T030000
TZOFFSETFROM:-0600
TZOFFSETTO:-0500
RRULE:FREQ=YEARLY;BYDAY=2SU;BYMONTH=3
TZNAME:CDT
END:DAYLIGHT
BEGIN:STANDARD
DTSTART:20261101T010000
TZOFFSETFROM:-0500
TZOFFSETTO:-0600
RRULE:FREQ=YEARLY;BYDAY=1SU;BYMONTH=11
TZNAME:CST
END:STANDARD
END:VTIMEZONE
BEGIN:VEVENT
DTSTAMP;TZID=America/Chicago:20260422T001719
UID:221219@calendar.wisc.edu
DTSTART;TZID=America/Chicago:20260605T070000
DTEND;TZID=America/Chicago:20260605T080000
DESCRIPTION:Amitha Domalpally\, MD\, PhD\, "AMD: Evolving Classification an
 d Biomarkers\;" Jackson Korger\, MD\, "TBD". Ophthalmic lectures for clini
 cal professionals. To join us on Zoom\, please click the "Online" hyperlin
 k. Faculty\, trainees\, and guest speakers present and discuss various top
 ics to improve competency and knowledge of eye disease. This weekly event\
 , conducted year-round\, provides continuing medical education credits for
  ophthalmologists and continuing education credits for optometrists.\n\nCO
 NTACT: dapillath@wisc.edu\n\nURL: https://uwmadison.zoom.us/j/95896072184?
 pwd=F8ijBP6bsrjdWba3rbmYy4z8vRSURF.1\n\nONLINE: https://uwmadison.zoom.us/
 j/95896072184?pwd=F8ijBP6bsrjdWba3rbmYy4z8vRSURF.1
LOCATION:  (Online)
SUMMARY:Ophthalmology Grand Rounds - Virtual
URL;VALUE=URI:https://uwmadison.zoom.us/j/95896072184?pwd=F8ijBP6bsrjdWba3r
 bmYy4z8vRSURF.1
END:VEVENT
END:VCALENDAR

