BEGIN:VCALENDAR
VERSION:2.0
PRODID:icalendar-ruby
CALSCALE:GREGORIAN
BEGIN:VTIMEZONE
TZID:America/Chicago
BEGIN:DAYLIGHT
DTSTART:20260308T030000
TZOFFSETFROM:-0600
TZOFFSETTO:-0500
RRULE:FREQ=YEARLY;BYDAY=2SU;BYMONTH=3
TZNAME:CDT
END:DAYLIGHT
BEGIN:STANDARD
DTSTART:20261101T010000
TZOFFSETFROM:-0500
TZOFFSETTO:-0600
RRULE:FREQ=YEARLY;BYDAY=1SU;BYMONTH=11
TZNAME:CST
END:STANDARD
END:VTIMEZONE
BEGIN:VEVENT
DTSTAMP;TZID=America/Chicago:20260422T001439
UID:221233@calendar.wisc.edu
DTSTART;TZID=America/Chicago:20260617T130000
DTEND;TZID=America/Chicago:20260617T143000
DESCRIPTION:Arboretum. Join the Arboretum and the Wisconsin Dragonfly Socie
 ty to learn about dragonflies and damselflies. Participants can practice i
 dentifying species and collecting data for the Arboretum’s dragonfly and
  damselfly (Odonata) monitoring project. No experience required. Please br
 ing binoculars if you have them. Recommended for ages 12 and up. Walks tak
 e place monthly\, June through September\, but may be canceled for rainy o
 r cool weather. Meet at the Visitor Center.\n\nCONTACT: 263-7888\, info@ar
 boretum.wisc.edu\n\nURL: https://arboretum.wisc.edu/get-involved/citizen-s
 cience/citizen-science-trainings/
LOCATION:Meet at Visitor Center\, UW–Madison Arboretum
SUMMARY:Dragonfly Walk
URL;VALUE=URI:https://arboretum.wisc.edu/get-involved/citizen-science/citiz
 en-science-trainings/
END:VEVENT
END:VCALENDAR

