BEGIN:VCALENDAR
VERSION:2.0
PRODID:icalendar-ruby
CALSCALE:GREGORIAN
BEGIN:VTIMEZONE
TZID:America/Chicago
BEGIN:DAYLIGHT
DTSTART:20260308T030000
TZOFFSETFROM:-0600
TZOFFSETTO:-0500
RRULE:FREQ=YEARLY;BYDAY=2SU;BYMONTH=3
TZNAME:CDT
END:DAYLIGHT
BEGIN:STANDARD
DTSTART:20261101T010000
TZOFFSETFROM:-0500
TZOFFSETTO:-0600
RRULE:FREQ=YEARLY;BYDAY=1SU;BYMONTH=11
TZNAME:CST
END:STANDARD
END:VTIMEZONE
BEGIN:VEVENT
DTSTAMP;TZID=America/Chicago:20260422T001708
UID:221234@calendar.wisc.edu
DTSTART;TZID=America/Chicago:20260617T190000
DTEND;TZID=America/Chicago:20260617T200000
DESCRIPTION:Arboretum Garden Tour. Celebrate late spring by visiting our wo
 odland\, savanna\, and prairie gardens. This tour\, led by garden curator 
 Susan Carpenter\, provides an overview of the Wisconsin Native Plant Garde
 n. Tours canceled for unsafe conditions. Free\, no registration required. 
 Meet at the Visitor Center.\n\nCONTACT: 263-7888\, info@arboretum.wisc.edu
 \n\nURL: https://arboretum.wisc.edu/learn/adult-education/garden-tours/
LOCATION:Meet at Visitor Center\, UW–Madison Arboretum
SUMMARY:Woodland\, Savanna\, and Prairie Gardens
URL;VALUE=URI:https://arboretum.wisc.edu/learn/adult-education/garden-tours
 /
END:VEVENT
END:VCALENDAR

