BEGIN:VCALENDAR
VERSION:2.0
PRODID:icalendar-ruby
CALSCALE:GREGORIAN
BEGIN:VTIMEZONE
TZID:America/Chicago
BEGIN:DAYLIGHT
DTSTART:20260308T030000
TZOFFSETFROM:-0600
TZOFFSETTO:-0500
RRULE:FREQ=YEARLY;BYDAY=2SU;BYMONTH=3
TZNAME:CDT
END:DAYLIGHT
BEGIN:STANDARD
DTSTART:20261101T010000
TZOFFSETFROM:-0500
TZOFFSETTO:-0600
RRULE:FREQ=YEARLY;BYDAY=1SU;BYMONTH=11
TZNAME:CST
END:STANDARD
END:VTIMEZONE
BEGIN:VEVENT
DTSTAMP;TZID=America/Chicago:20260422T011950
UID:221239@calendar.wisc.edu
DTSTART;TZID=America/Chicago:20260624T190000
DTEND;TZID=America/Chicago:20260624T200000
DESCRIPTION:Arboretum Garden Tour. Join Susan Carpenter\, Wisconsin Native 
 Plant Garden curator\, to find\, compare\, and learn about flowers on nati
 ve trees\, shrubs\, and herbaceous plants. Tours canceled for unsafe condi
 tions. Free\, no registration required. Meet at the Visitor Center.\n\nCON
 TACT: 263-7888\, info@arboretum.wisc.edu\n\nURL: https://arboretum.wisc.ed
 u/learn/adult-education/garden-tours/
LOCATION:Meet at Visitor Center\, UW–Madison Arboretum
SUMMARY:What’s in Bloom?
URL;VALUE=URI:https://arboretum.wisc.edu/learn/adult-education/garden-tours
 /
END:VEVENT
END:VCALENDAR

