BEGIN:VCALENDAR
VERSION:2.0
PRODID:icalendar-ruby
CALSCALE:GREGORIAN
BEGIN:VTIMEZONE
TZID:America/Chicago
BEGIN:DAYLIGHT
DTSTART:20260308T030000
TZOFFSETFROM:-0600
TZOFFSETTO:-0500
RRULE:FREQ=YEARLY;BYDAY=2SU;BYMONTH=3
TZNAME:CDT
END:DAYLIGHT
BEGIN:STANDARD
DTSTART:20261101T010000
TZOFFSETFROM:-0500
TZOFFSETTO:-0600
RRULE:FREQ=YEARLY;BYDAY=1SU;BYMONTH=11
TZNAME:CST
END:STANDARD
END:VTIMEZONE
BEGIN:VEVENT
DTSTAMP;TZID=America/Chicago:20260422T021022
UID:221242@calendar.wisc.edu
DTSTART;TZID=America/Chicago:20260430T170000
DTEND;TZID=America/Chicago:20260430T190000
DESCRIPTION:Imagine a world where humans can communicate with the vast fung
 i network running beneath our feet: mycelium! Peggy Choy’s newest work\,
  "Dreams of the Abandoned Daughter"\, is a dance-film that explores the cl
 imate crisis\, blending social impacts of climate change with Korean myth.
  The film premiered in France in March 2025 and is now making its premiere
  in Madison! Join us for an inspirational night to view the film\, followe
 d by a post‑screening discussion.\n\nCONTACT: 263-2246\, events@chazen.w
 isc.edu\n\nURL: https://www.eventbrite.com/e/dreams-of-the-abandoned-daugh
 ter-film-screening-and-discussion-new-date-tickets-1987963895526?aff=TOev0
 4172026
LOCATION:Auditorium\, Chazen Museum of Art
SUMMARY:Dreams of the Abandoned Daughter: Film Screening and Discussion (Ne
 w Date)
URL;VALUE=URI:https://www.eventbrite.com/e/dreams-of-the-abandoned-daughter
 -film-screening-and-discussion-new-date-tickets-1987963895526?aff=TOev0417
 2026
END:VEVENT
END:VCALENDAR

