BEGIN:VCALENDAR
VERSION:2.0
PRODID:icalendar-ruby
CALSCALE:GREGORIAN
BEGIN:VTIMEZONE
TZID:America/Chicago
BEGIN:DAYLIGHT
DTSTART:20260308T030000
TZOFFSETFROM:-0600
TZOFFSETTO:-0500
RRULE:FREQ=YEARLY;BYDAY=2SU;BYMONTH=3
TZNAME:CDT
END:DAYLIGHT
BEGIN:STANDARD
DTSTART:20261101T010000
TZOFFSETFROM:-0500
TZOFFSETTO:-0600
RRULE:FREQ=YEARLY;BYDAY=1SU;BYMONTH=11
TZNAME:CST
END:STANDARD
END:VTIMEZONE
BEGIN:VEVENT
DTSTAMP;TZID=America/Chicago:20260422T111948
UID:221251@calendar.wisc.edu
DTSTART;TZID=America/Chicago:20260820T170000
DTEND;TZID=America/Chicago:20260820T200000
DESCRIPTION:Join Wheelhouse Studios for free artmaking! Arrange dried flowe
 rs\, tissue paper\, and transparent layers to create a garden-inspired sun
 catcher. All ages and skill levels welcome All supplies are provided No ad
 vanced registration required Learn more about the Terrace Art Zone.\n\nCON
 TACT: wheelhouse@union.wisc.edu\n\nURL: https://union.wisc.edu/events-and-
 activities/event-calendar/event/terrace-art-zone-pressed-flower-suncatcher
 s
LOCATION:The Terrace (Terrace Art Zone)\, Memorial Union
SUMMARY:Terrace Art Zone: Pressed Flower Suncatchers
URL;VALUE=URI:https://union.wisc.edu/events-and-activities/event-calendar/e
 vent/terrace-art-zone-pressed-flower-suncatchers
END:VEVENT
END:VCALENDAR

