BEGIN:VCALENDAR
VERSION:2.0
PRODID:icalendar-ruby
CALSCALE:GREGORIAN
BEGIN:VTIMEZONE
TZID:America/Chicago
BEGIN:DAYLIGHT
DTSTART:20260308T030000
TZOFFSETFROM:-0600
TZOFFSETTO:-0500
RRULE:FREQ=YEARLY;BYDAY=2SU;BYMONTH=3
TZNAME:CDT
END:DAYLIGHT
BEGIN:STANDARD
DTSTART:20261101T010000
TZOFFSETFROM:-0500
TZOFFSETTO:-0600
RRULE:FREQ=YEARLY;BYDAY=1SU;BYMONTH=11
TZNAME:CST
END:STANDARD
END:VTIMEZONE
BEGIN:VEVENT
DTSTAMP;TZID=America/Chicago:20260422T111913
UID:221259@calendar.wisc.edu
DTSTART;TZID=America/Chicago:20260821T170000
DTEND;TZID=America/Chicago:20260821T200000
DESCRIPTION:Join Wheelhouse Studios for free artmaking! Sculpt mini sea cre
 atures using soft Model Magic clay—sharks\, colorful fish\, or your very
  own creation!&nbsp\; All ages and skill levels welcome All supplies are p
 rovided No advanced registration required Learn more about the Terrace Art
  Zone.\n\nCONTACT: wheelhouse@union.wisc.edu\n\nURL: https://union.wisc.ed
 u/events-and-activities/event-calendar/event/terrace-art-zone-model-magic-
 shark-week
LOCATION:The Terrace (Terrace Art Zone)\, Memorial Union
SUMMARY:Terrace Art Zone: Model Magic Shark Week
URL;VALUE=URI:https://union.wisc.edu/events-and-activities/event-calendar/e
 vent/terrace-art-zone-model-magic-shark-week
END:VEVENT
END:VCALENDAR

