BEGIN:VCALENDAR
VERSION:2.0
PRODID:icalendar-ruby
CALSCALE:GREGORIAN
BEGIN:VTIMEZONE
TZID:America/Chicago
BEGIN:DAYLIGHT
DTSTART:20260308T030000
TZOFFSETFROM:-0600
TZOFFSETTO:-0500
RRULE:FREQ=YEARLY;BYDAY=2SU;BYMONTH=3
TZNAME:CDT
END:DAYLIGHT
BEGIN:STANDARD
DTSTART:20261101T010000
TZOFFSETFROM:-0500
TZOFFSETTO:-0600
RRULE:FREQ=YEARLY;BYDAY=1SU;BYMONTH=11
TZNAME:CST
END:STANDARD
END:VTIMEZONE
BEGIN:VEVENT
DTSTAMP;TZID=America/Chicago:20260422T110300
UID:221263@calendar.wisc.edu
DTSTART;TZID=America/Chicago:20260822T170000
DTEND;TZID=America/Chicago:20260822T200000
DESCRIPTION:Join Wheelhouse Studios for free artmaking! Use colorful felt f
 abric\, paint pens\, dowels\, and more to design your own sporty pennant t
 o wave or hang on display. All ages and skill levels welcome All supplies 
 are provided No advanced registration required Learn more about the Terrac
 e Art Zone.\n\nCONTACT: wheelhouse@union.wisc.edu\n\nURL: https://union.wi
 sc.edu/events-and-activities/event-calendar/event/terrace-art-zone-felt-sp
 ort-pennants
LOCATION:The Terrace (Terrace Art Zone)\, Memorial Union
SUMMARY:Terrace Art Zone: Felt Sport Pennants
URL;VALUE=URI:https://union.wisc.edu/events-and-activities/event-calendar/e
 vent/terrace-art-zone-felt-sport-pennants
END:VEVENT
END:VCALENDAR

