BEGIN:VCALENDAR
VERSION:2.0
PRODID:icalendar-ruby
CALSCALE:GREGORIAN
BEGIN:VTIMEZONE
TZID:America/Chicago
BEGIN:DAYLIGHT
DTSTART:20260308T030000
TZOFFSETFROM:-0600
TZOFFSETTO:-0500
RRULE:FREQ=YEARLY;BYDAY=2SU;BYMONTH=3
TZNAME:CDT
END:DAYLIGHT
BEGIN:STANDARD
DTSTART:20261101T010000
TZOFFSETFROM:-0500
TZOFFSETTO:-0600
RRULE:FREQ=YEARLY;BYDAY=1SU;BYMONTH=11
TZNAME:CST
END:STANDARD
END:VTIMEZONE
BEGIN:VEVENT
DTSTAMP;TZID=America/Chicago:20260422T111912
UID:221266@calendar.wisc.edu
DTSTART;TZID=America/Chicago:20260822T170000
DTEND;TZID=America/Chicago:20260822T200000
DESCRIPTION:Join Wheelhouse Studios for free artmaking! Build a hanging mob
 ile using wire\, beads\, bells\, and metallic shapes. Create a kinetic scu
 lpture that moves and catches the light.&nbsp\; All ages and skill levels 
 welcome All supplies are provided No advanced registration required Learn 
 more about the Terrace Art Zone.\n\nCONTACT: wheelhouse@union.wisc.edu\n\n
 URL: https://union.wisc.edu/events-and-activities/event-calendar/event/ter
 race-art-zone-reflective-mobiles
LOCATION:The Terrace (Terrace Art Zone)\, Memorial Union
SUMMARY:Terrace Art Zone: Reflective Mobiles&nbsp\;
URL;VALUE=URI:https://union.wisc.edu/events-and-activities/event-calendar/e
 vent/terrace-art-zone-reflective-mobiles
END:VEVENT
END:VCALENDAR

