BEGIN:VCALENDAR
VERSION:2.0
PRODID:icalendar-ruby
CALSCALE:GREGORIAN
BEGIN:VTIMEZONE
TZID:America/Chicago
BEGIN:DAYLIGHT
DTSTART:20260308T030000
TZOFFSETFROM:-0600
TZOFFSETTO:-0500
RRULE:FREQ=YEARLY;BYDAY=2SU;BYMONTH=3
TZNAME:CDT
END:DAYLIGHT
BEGIN:STANDARD
DTSTART:20261101T010000
TZOFFSETFROM:-0500
TZOFFSETTO:-0600
RRULE:FREQ=YEARLY;BYDAY=1SU;BYMONTH=11
TZNAME:CST
END:STANDARD
END:VTIMEZONE
BEGIN:VEVENT
DTSTAMP;TZID=America/Chicago:20260422T110330
UID:221267@calendar.wisc.edu
DTSTART;TZID=America/Chicago:20260822T170000
DTEND;TZID=America/Chicago:20260822T200000
DESCRIPTION:Join Wheelhouse Studios for free artmaking! Design your own cus
 tom buttons using markers\, collage materials\, and a variety of fun visua
 l references. All ages and skill levels welcome All supplies are provided 
 No advanced registration required Learn more about the Terrace Art Zone.\n
 \nCONTACT: wheelhouse@union.wisc.edu\n\nURL: https://union.wisc.edu/events
 -and-activities/event-calendar/event/terrace-art-zone-button-buffet
LOCATION:The Terrace (Terrace Art Zone)\, Memorial Union
SUMMARY:Terrace Art Zone: Button Buffet
URL;VALUE=URI:https://union.wisc.edu/events-and-activities/event-calendar/e
 vent/terrace-art-zone-button-buffet
END:VEVENT
END:VCALENDAR

