BEGIN:VCALENDAR
VERSION:2.0
PRODID:icalendar-ruby
CALSCALE:GREGORIAN
BEGIN:VTIMEZONE
TZID:America/Chicago
BEGIN:DAYLIGHT
DTSTART:20260308T030000
TZOFFSETFROM:-0600
TZOFFSETTO:-0500
RRULE:FREQ=YEARLY;BYDAY=2SU;BYMONTH=3
TZNAME:CDT
END:DAYLIGHT
BEGIN:STANDARD
DTSTART:20261101T010000
TZOFFSETFROM:-0500
TZOFFSETTO:-0600
RRULE:FREQ=YEARLY;BYDAY=1SU;BYMONTH=11
TZNAME:CST
END:STANDARD
END:VTIMEZONE
BEGIN:VEVENT
DTSTAMP;TZID=America/Chicago:20260422T204115
UID:221285@calendar.wisc.edu
DTSTART;TZID=America/Chicago:20260715T190000
DTEND;TZID=America/Chicago:20260715T200000
DESCRIPTION:Arboretum Garden Tour. Learn about summer-blooming native and o
 rnamental species in Arboretum gardens. Susan Carpenter\, Native Plant Gar
 den curator\, will highlight plants and gardening practices that support e
 ssential pollinators in urban and suburban landscapes. Tours canceled for 
 unsafe conditions. Free\, no registration required. Meet at the Visitor Ce
 nter.\n\nCONTACT: 263-7888\, info@arboretum.wisc.edu\n\nURL: https://arbor
 etum.wisc.edu/learn/adult-education/garden-tours/
LOCATION:Meet at Visitor Center\, UW–Madison Arboretum
SUMMARY:Plants for Pollinators
URL;VALUE=URI:https://arboretum.wisc.edu/learn/adult-education/garden-tours
 /
END:VEVENT
END:VCALENDAR

