BEGIN:VCALENDAR
VERSION:2.0
PRODID:icalendar-ruby
CALSCALE:GREGORIAN
BEGIN:VTIMEZONE
TZID:America/Chicago
BEGIN:DAYLIGHT
DTSTART:20260308T030000
TZOFFSETFROM:-0600
TZOFFSETTO:-0500
RRULE:FREQ=YEARLY;BYDAY=2SU;BYMONTH=3
TZNAME:CDT
END:DAYLIGHT
BEGIN:STANDARD
DTSTART:20261101T010000
TZOFFSETFROM:-0500
TZOFFSETTO:-0600
RRULE:FREQ=YEARLY;BYDAY=1SU;BYMONTH=11
TZNAME:CST
END:STANDARD
END:VTIMEZONE
BEGIN:VEVENT
DTSTAMP;TZID=America/Chicago:20260423T230746
UID:221290@calendar.wisc.edu
DTSTART;TZID=America/Chicago:20260429T180000
DTEND;TZID=America/Chicago:20260429T193000
DESCRIPTION:Celebrate the Class of 2026!. Please join Odyssey staff\, alumn
 i\, &amp\; supporters in celebrating students’ completion of six UW cred
 its following two semesters studying challenging works of literature\, Ame
 rican history\, art history\, and philosophy.\nBe inspired by Odyssey stud
 ent voices\, remarks from incoming Interim UW Chancellor Eric Wilcots\, an
 d award presentations to Mary Rouse\, former UW Dean of Students\, and her
  son\, DCS Associate Dean Martin Rouse. Our program starts promptly at 6 P
 M\, with refreshments and Bucky to follow!\n\nCONTACT: 852-7344\, sarah.le
 nsmire@wisc.edu\n\nURL: https://odyssey.wisc.edu/all-events/#graduation
LOCATION:Great Hall\, Memorial Union
SUMMARY:UW Odyssey Project Graduation 2026
URL;VALUE=URI:https://odyssey.wisc.edu/all-events/#graduation
END:VEVENT
END:VCALENDAR

