BEGIN:VCALENDAR
VERSION:2.0
PRODID:icalendar-ruby
CALSCALE:GREGORIAN
BEGIN:VTIMEZONE
TZID:America/Chicago
BEGIN:DAYLIGHT
DTSTART:20260308T030000
TZOFFSETFROM:-0600
TZOFFSETTO:-0500
RRULE:FREQ=YEARLY;BYDAY=2SU;BYMONTH=3
TZNAME:CDT
END:DAYLIGHT
BEGIN:STANDARD
DTSTART:20261101T010000
TZOFFSETFROM:-0500
TZOFFSETTO:-0600
RRULE:FREQ=YEARLY;BYDAY=1SU;BYMONTH=11
TZNAME:CST
END:STANDARD
END:VTIMEZONE
BEGIN:VEVENT
DTSTAMP;TZID=America/Chicago:20260423T103505
UID:221292@calendar.wisc.edu
DTSTART;TZID=America/Chicago:20260424T160000
DTEND;TZID=America/Chicago:20260424T180000
DESCRIPTION:The UW Jazz Orchestra includes 5 saxophones\, 4 to 5 trumpets\,
  4 to 5 trombones\, piano\, guitar\, bass\, and drums. The ensemble perfor
 ms music ranging from the classic big band repertoire to contemporary and 
 cutting-edge concert jazz music by today’s leading jazz composers.\n\nCO
 NTACT: music@union.wisc.edu\n\nURL: https://union.wisc.edu/events-and-acti
 vities/event-calendar/event/uw-jazz-orchestra
LOCATION:The Rath\, Memorial Union
SUMMARY:UW Jazz Orchestra
URL;VALUE=URI:https://union.wisc.edu/events-and-activities/event-calendar/e
 vent/uw-jazz-orchestra
END:VEVENT
END:VCALENDAR

