BEGIN:VCALENDAR
VERSION:2.0
PRODID:icalendar-ruby
CALSCALE:GREGORIAN
BEGIN:VTIMEZONE
TZID:America/Chicago
BEGIN:DAYLIGHT
DTSTART:20260308T030000
TZOFFSETFROM:-0600
TZOFFSETTO:-0500
RRULE:FREQ=YEARLY;BYDAY=2SU;BYMONTH=3
TZNAME:CDT
END:DAYLIGHT
BEGIN:STANDARD
DTSTART:20261101T010000
TZOFFSETFROM:-0500
TZOFFSETTO:-0600
RRULE:FREQ=YEARLY;BYDAY=1SU;BYMONTH=11
TZNAME:CST
END:STANDARD
END:VTIMEZONE
BEGIN:VEVENT
DTSTAMP;TZID=America/Chicago:20260423T102854
UID:221293@calendar.wisc.edu
DTSTART;TZID=America/Chicago:20260424T190000
DTEND;TZID=America/Chicago:20260424T220000
DESCRIPTION:A veteran of the L.A. psychedelic scene\, Michael Collins turns
  the trippiness down to a slow boil for his Drugdealer project. Built arou
 nd his smooth keyboard playing and plangent soft rock melodies\, the band 
 re-creates the laid-back sound and vibe of Laurel Canyon of the ‘70s\, w
 hile also sounding as technically pure as a studio full of session players
 .\n\nCONTACT: music@union.wisc.edu\n\nURL: https://union.wisc.edu/events-a
 nd-activities/event-calendar/event/drugdealer-quokka
LOCATION:The Rath\, Memorial Union
SUMMARY:Drugdealer with Quokka
URL;VALUE=URI:https://union.wisc.edu/events-and-activities/event-calendar/e
 vent/drugdealer-quokka
END:VEVENT
END:VCALENDAR

