BEGIN:VCALENDAR
VERSION:2.0
PRODID:icalendar-ruby
CALSCALE:GREGORIAN
BEGIN:VTIMEZONE
TZID:America/Chicago
BEGIN:DAYLIGHT
DTSTART:20260308T030000
TZOFFSETFROM:-0600
TZOFFSETTO:-0500
RRULE:FREQ=YEARLY;BYDAY=2SU;BYMONTH=3
TZNAME:CDT
END:DAYLIGHT
BEGIN:STANDARD
DTSTART:20261101T010000
TZOFFSETFROM:-0500
TZOFFSETTO:-0600
RRULE:FREQ=YEARLY;BYDAY=1SU;BYMONTH=11
TZNAME:CST
END:STANDARD
END:VTIMEZONE
BEGIN:VEVENT
DTSTAMP;TZID=America/Chicago:20260423T101817
UID:221300@calendar.wisc.edu
DTSTART;TZID=America/Chicago:20260627T150000
DTEND;TZID=America/Chicago:20260627T170000
DESCRIPTION:Bring your friends and/or family to Memorial Union Terrace&nbsp
 \;for a fun evening on and off&nbsp\;the lake!&nbsp\; Join our Outdoor UW 
 paddling instructors for some fun games\, sightseeing\, and paddling on La
 ke Mendota.&nbsp\; After our paddle\, feel free to help yourself to dinner
  and dancing to the sounds of live music&nbsp\;on the Terrace when we retu
 rn at 5:00 PM.\n\nCONTACT: 262-1630\, OutdoorUW@union.wisc.edu\n\nURL: htt
 ps://union.wisc.edu/events-and-activities/event-calendar/event/afternoon-p
 addle-games-outdoor-uw-0
LOCATION:Outdoor UW\, Memorial Union
SUMMARY:Afternoon Paddle Games with Outdoor UW
URL;VALUE=URI:https://union.wisc.edu/events-and-activities/event-calendar/e
 vent/afternoon-paddle-games-outdoor-uw-0
END:VEVENT
END:VCALENDAR

