BEGIN:VCALENDAR
VERSION:2.0
PRODID:icalendar-ruby
CALSCALE:GREGORIAN
BEGIN:VTIMEZONE
TZID:America/Chicago
BEGIN:DAYLIGHT
DTSTART:20260308T030000
TZOFFSETFROM:-0600
TZOFFSETTO:-0500
RRULE:FREQ=YEARLY;BYDAY=2SU;BYMONTH=3
TZNAME:CDT
END:DAYLIGHT
BEGIN:STANDARD
DTSTART:20261101T010000
TZOFFSETFROM:-0500
TZOFFSETTO:-0600
RRULE:FREQ=YEARLY;BYDAY=1SU;BYMONTH=11
TZNAME:CST
END:STANDARD
END:VTIMEZONE
BEGIN:VEVENT
DTSTAMP;TZID=America/Chicago:20260423T101714
UID:221302@calendar.wisc.edu
DTSTART;TZID=America/Chicago:20260716T180000
DTEND;TZID=America/Chicago:20260716T203000
DESCRIPTION:Come float with us on Lake Mendota as band  The Milbillies&nbsp
 \; turns the Terrace stage to the lake as they play bluegrass tunes! Kayak
 s &amp\; Paddleboards - Reservations Required Through Outdoor UW: $16 / pe
 r person for entire event (6-9 p.m.) We will have a safe area for all to e
 njoy the float! No experience necessary. RESERVE YOUR SPOT &nbsp\;\n\nCONT
 ACT: 262-1630\, OutdoorUW@union.wisc.edu\n\nURL: https://union.wisc.edu/ev
 ents-and-activities/event-calendar/event/lakefront-live-0
LOCATION:The Terrace (See Event Details)\, Memorial Union
SUMMARY:Lakefront Live
URL;VALUE=URI:https://union.wisc.edu/events-and-activities/event-calendar/e
 vent/lakefront-live-0
END:VEVENT
END:VCALENDAR

