BEGIN:VCALENDAR
VERSION:2.0
PRODID:icalendar-ruby
CALSCALE:GREGORIAN
BEGIN:VTIMEZONE
TZID:America/Chicago
BEGIN:DAYLIGHT
DTSTART:20260308T030000
TZOFFSETFROM:-0600
TZOFFSETTO:-0500
RRULE:FREQ=YEARLY;BYDAY=2SU;BYMONTH=3
TZNAME:CDT
END:DAYLIGHT
BEGIN:STANDARD
DTSTART:20261101T010000
TZOFFSETFROM:-0500
TZOFFSETTO:-0600
RRULE:FREQ=YEARLY;BYDAY=1SU;BYMONTH=11
TZNAME:CST
END:STANDARD
END:VTIMEZONE
BEGIN:VEVENT
DTSTAMP;TZID=America/Chicago:20260423T102834
UID:221306@calendar.wisc.edu
DTSTART;TZID=America/Chicago:20260816T170000
DTEND;TZID=America/Chicago:20260816T190000
DESCRIPTION:Hike and Brew with Outdoor UW! Spend your evening outdoors and 
 at the Terrace. Enjoy the leisurely hike to Picnic Point with our fun\, en
 ergetic staff who will guide you on all the knows of the land.&nbsp\; Afte
 r the hike\, enjoy a beverage at the Terrace while you watch the sunset an
 d listen to the band! Your beverage is included in your registration rate.
  Those 21 and over can enjoy an alcoholic beverage\, so please bring your 
 ID! Those under 21 will have just as much fun and can enjoy a&nbsp\;non-al
 coholic beverage.&nbsp\; &nbsp\;\n\nCONTACT: 262-1630\, OutdoorUW@union.wi
 sc.edu\n\nURL: https://union.wisc.edu/events-and-activities/event-calendar
 /event/hike-and-brew-outdoor-uw-14
LOCATION:See Event Details\, Memorial Union
SUMMARY:Hike and Brew with Outdoor UW
URL;VALUE=URI:https://union.wisc.edu/events-and-activities/event-calendar/e
 vent/hike-and-brew-outdoor-uw-14
END:VEVENT
END:VCALENDAR

