BEGIN:VCALENDAR
VERSION:2.0
PRODID:icalendar-ruby
CALSCALE:GREGORIAN
BEGIN:VTIMEZONE
TZID:America/Chicago
BEGIN:DAYLIGHT
DTSTART:20260308T030000
TZOFFSETFROM:-0600
TZOFFSETTO:-0500
RRULE:FREQ=YEARLY;BYDAY=2SU;BYMONTH=3
TZNAME:CDT
END:DAYLIGHT
BEGIN:STANDARD
DTSTART:20261101T010000
TZOFFSETFROM:-0500
TZOFFSETTO:-0600
RRULE:FREQ=YEARLY;BYDAY=1SU;BYMONTH=11
TZNAME:CST
END:STANDARD
END:VTIMEZONE
BEGIN:VEVENT
DTSTAMP;TZID=America/Chicago:20260423T102832
UID:221307@calendar.wisc.edu
DTSTART;TZID=America/Chicago:20260822T180000
DTEND;TZID=America/Chicago:20260822T193000
DESCRIPTION:Hop on a paddleboard and enjoy the campus lakeshore! Learn how 
 to paddle a&nbsp\;SUP (Stand-Up Paddleboard) correctly&nbsp\;and hang out 
 on Lake Mendota. After an hour-long guided tour of the lakefront by paddle
 board\, join your new group of friends&nbsp\;for a beverage of your choice
  while enjoying the ambiance of the Terrace! Remember to bring your ID if 
 you plan to enjoy an&nbsp\;alcoholic beverage. &nbsp\; Please arrive 15 mi
 nutes before the scheduled start time. Meet at the Outdoor UW desk located
  in the lower level of Memorial Union. &nbsp\; If you have any questions o
 r concerns\, please contact  ouwmanager@union.wisc.edu\n\nCONTACT: 262-163
 0\, OutdoorUW@union.wisc.edu\n\nURL: https://union.wisc.edu/events-and-act
 ivities/event-calendar/event/sup-sip-sound-outdoor-uw-10
LOCATION:Outdoor UW\, Memorial Union
SUMMARY:SUP\, Sip & Sound with Outdoor UW
URL;VALUE=URI:https://union.wisc.edu/events-and-activities/event-calendar/e
 vent/sup-sip-sound-outdoor-uw-10
END:VEVENT
END:VCALENDAR

