BEGIN:VCALENDAR
VERSION:2.0
PRODID:icalendar-ruby
CALSCALE:GREGORIAN
BEGIN:VTIMEZONE
TZID:America/Chicago
BEGIN:DAYLIGHT
DTSTART:20260308T030000
TZOFFSETFROM:-0600
TZOFFSETTO:-0500
RRULE:FREQ=YEARLY;BYDAY=2SU;BYMONTH=3
TZNAME:CDT
END:DAYLIGHT
BEGIN:STANDARD
DTSTART:20261101T010000
TZOFFSETFROM:-0500
TZOFFSETTO:-0600
RRULE:FREQ=YEARLY;BYDAY=1SU;BYMONTH=11
TZNAME:CST
END:STANDARD
END:VTIMEZONE
BEGIN:VEVENT
DTSTAMP;TZID=America/Chicago:20260423T102854
UID:221308@calendar.wisc.edu
DTSTART;TZID=America/Chicago:20260829T160000
DTEND;TZID=America/Chicago:20260829T190000
DESCRIPTION:Take a paddling tour along Lake Mendota to Picnic Point with ou
 r knowledgeable Outdoor UW staff! Learn more about the Lake\, UW Madison h
 istory\, and the wildlife in between. Beach ashore Picnic Point for a fire
  and s’mores to fuel up for an exciting paddle back to the Terrace\, whe
 re you can enjoy a refreshing beverage. Please arrive 15 minutes before th
 e scheduled start time. Meet at the Outdoor UW desk in the lower level of 
 Memorial Union. &nbsp\; Bring water\, sunscreen\, and a hat/sunglasses. We
 ar clothes and shoes that can get wet! Key lockers and bathrooms are avail
 able.&nbsp\; If you have any questions or concerns\, please contact  ouwma
 nager@union.wisc.edu &nbsp\;\n\nCONTACT: 262-1630\, OutdoorUW@union.wisc.e
 du\n\nURL: https://union.wisc.edu/events-and-activities/event-calendar/eve
 nt/destination-picnic-point-outdoor-uw-18
LOCATION:Outdoor UW\, Memorial Union
SUMMARY:Destination Picnic Point with Outdoor UW
URL;VALUE=URI:https://union.wisc.edu/events-and-activities/event-calendar/e
 vent/destination-picnic-point-outdoor-uw-18
END:VEVENT
END:VCALENDAR

