BEGIN:VCALENDAR
VERSION:2.0
PRODID:icalendar-ruby
CALSCALE:GREGORIAN
BEGIN:VTIMEZONE
TZID:America/Chicago
BEGIN:DAYLIGHT
DTSTART:20260308T030000
TZOFFSETFROM:-0600
TZOFFSETTO:-0500
RRULE:FREQ=YEARLY;BYDAY=2SU;BYMONTH=3
TZNAME:CDT
END:DAYLIGHT
BEGIN:STANDARD
DTSTART:20261101T010000
TZOFFSETFROM:-0500
TZOFFSETTO:-0600
RRULE:FREQ=YEARLY;BYDAY=1SU;BYMONTH=11
TZNAME:CST
END:STANDARD
END:VTIMEZONE
BEGIN:VEVENT
DTSTAMP;TZID=America/Chicago:20260423T200523
UID:221311@calendar.wisc.edu
DTSTART;TZID=America/Chicago:20260429T163000
DTEND;TZID=America/Chicago:20260429T173000
DESCRIPTION:Niina Vuolajärvi examines the “Nordic model\,” which crimi
 nalizes buying sex\, and its real-world impact on sex workers drawing on e
 xtensive research across Sweden\, Norway\, and Finland to explore question
 s of safety\, migration\, and gender equality.\n\nCONTACT: 265-8040\, euro
 pe@intl.wisc.edu\n\nURL: https://europe.wisc.edu/event/niina-vuolajarvi/
LOCATION:260 Bascom Hall
SUMMARY:Niina Vuolajärvi\, “Criminalizing the Sex Buying in the Name of 
 Gender Equality: Sex Work\, Migration and the Feminist Pol
URL;VALUE=URI:https://europe.wisc.edu/event/niina-vuolajarvi/
END:VEVENT
END:VCALENDAR

