BEGIN:VCALENDAR
VERSION:2.0
PRODID:icalendar-ruby
CALSCALE:GREGORIAN
BEGIN:VTIMEZONE
TZID:America/Chicago
BEGIN:DAYLIGHT
DTSTART:20260308T030000
TZOFFSETFROM:-0600
TZOFFSETTO:-0500
RRULE:FREQ=YEARLY;BYDAY=2SU;BYMONTH=3
TZNAME:CDT
END:DAYLIGHT
BEGIN:STANDARD
DTSTART:20261101T010000
TZOFFSETFROM:-0500
TZOFFSETTO:-0600
RRULE:FREQ=YEARLY;BYDAY=1SU;BYMONTH=11
TZNAME:CST
END:STANDARD
END:VTIMEZONE
BEGIN:VEVENT
DTSTAMP;TZID=America/Chicago:20260423T230751
UID:221312@calendar.wisc.edu
DTSTART;TZID=America/Chicago:20260507T140000
DTEND;TZID=America/Chicago:20260507T160000
DESCRIPTION:The Communication Arts Department will host a graduation ceremo
 ny for graduating seniors and PhD recipients on Thursday\, May 7 from 2:00
  – 4:00pm at Gordon Dining and Event Center\, 770 W. Dayton St. on the 2
 nd floor in the Overture/Sonata/Concerto rooms. We ask graduates to arrive
  by 1:30pm to get checked in. Doors will open at 1:30pm for the event.\n\n
 CONTACT: 262-2285\, halverson2@wisc.edu\n\nURL: https://commarts.wisc.edu/
 2026/02/communication-arts-2026-graduation/
LOCATION:Overture/Sonata/Concerto Rooms\, Gordon Dining and Event Center
SUMMARY:Communication Arts Graduation
URL;VALUE=URI:https://commarts.wisc.edu/2026/02/communication-arts-2026-gra
 duation/
END:VEVENT
END:VCALENDAR

