BEGIN:VCALENDAR
VERSION:2.0
PRODID:icalendar-ruby
CALSCALE:GREGORIAN
BEGIN:VTIMEZONE
TZID:America/Chicago
BEGIN:DAYLIGHT
DTSTART:20260308T030000
TZOFFSETFROM:-0600
TZOFFSETTO:-0500
RRULE:FREQ=YEARLY;BYDAY=2SU;BYMONTH=3
TZNAME:CDT
END:DAYLIGHT
BEGIN:STANDARD
DTSTART:20261101T010000
TZOFFSETFROM:-0500
TZOFFSETTO:-0600
RRULE:FREQ=YEARLY;BYDAY=1SU;BYMONTH=11
TZNAME:CST
END:STANDARD
END:VTIMEZONE
BEGIN:VEVENT
DTSTAMP;TZID=America/Chicago:20260423T220735
UID:221313@calendar.wisc.edu
DTSTART;TZID=America/Chicago:20260612T093000
DTEND;TZID=America/Chicago:20260612T113000
DESCRIPTION:Join us for the second session of the 2026 Healthy Living with 
 Mild Cognitive Impairment (MCI) education series as we explore Alzheimer
 ’s biomarker testing\, including its benefits and risks\, how results gu
 ide medical care and planning\, and how early diagnosis can expand treatme
 nt options and support quality of life. The program will end with a Q&amp\
 ;A session. Free and open to all. Register to join us live online via Zoom
  from anywhere.\n\nCONTACT: 265-0407\n\nURL: https://adrc.wisc.edu/hlwmci-
 june-2026\n\nONLINE: https://adrc.wisc.edu/hlwmci-june-2026
LOCATION:  (Online)
SUMMARY:Navigating Alzheimer’s Biomarker Testing and Results
URL;VALUE=URI:https://adrc.wisc.edu/hlwmci-june-2026
END:VEVENT
END:VCALENDAR

