BEGIN:VCALENDAR
VERSION:2.0
PRODID:icalendar-ruby
CALSCALE:GREGORIAN
BEGIN:VTIMEZONE
TZID:America/Chicago
BEGIN:DAYLIGHT
DTSTART:20260308T030000
TZOFFSETFROM:-0600
TZOFFSETTO:-0500
RRULE:FREQ=YEARLY;BYDAY=2SU;BYMONTH=3
TZNAME:CDT
END:DAYLIGHT
BEGIN:STANDARD
DTSTART:20261101T010000
TZOFFSETFROM:-0500
TZOFFSETTO:-0600
RRULE:FREQ=YEARLY;BYDAY=1SU;BYMONTH=11
TZNAME:CST
END:STANDARD
END:VTIMEZONE
BEGIN:VEVENT
DTSTAMP;TZID=America/Chicago:20260423T221137
UID:221314@calendar.wisc.edu
DTSTART;TZID=America/Chicago:20260429T160000
DTEND;TZID=America/Chicago:20260429T171500
DESCRIPTION:Join IRIS NRC for a conversation with Molly Knight Raskin\, an 
 award-winning journalist and Pulitzer Center grantee whose work explores t
 he human consequences of U.S. policy decisions around the world.\n\nThis e
 vent draws on her short documentary\, Cuts and Consequences: The End of US
 AID (26 minutes)\, which examines the dismantling of the United States Age
 ncy for International Development (USAID) and its ripple effects on commun
 ities globally\n\nHybrid – on zoom and in person at Science Hall room 14
 0\n\nCONTACT: 262-5006\, outreach@iris.wisc.edu\n\nURL: https://irisnrc.wi
 sc.edu/event/telling-global-stories-how-u-s-policy-shapes-lives-around-the
 -world/
LOCATION:140 Science Hall
SUMMARY:Telling Global Stories: How U.S. Policy Shapes Lives Around the Wor
 ld
URL;VALUE=URI:https://irisnrc.wisc.edu/event/telling-global-stories-how-u-s
 -policy-shapes-lives-around-the-world/
END:VEVENT
END:VCALENDAR

