BEGIN:VCALENDAR
VERSION:2.0
PRODID:icalendar-ruby
CALSCALE:GREGORIAN
BEGIN:VTIMEZONE
TZID:America/Chicago
BEGIN:DAYLIGHT
DTSTART:20260308T030000
TZOFFSETFROM:-0600
TZOFFSETTO:-0500
RRULE:FREQ=YEARLY;BYDAY=2SU;BYMONTH=3
TZNAME:CDT
END:DAYLIGHT
BEGIN:STANDARD
DTSTART:20261101T010000
TZOFFSETFROM:-0500
TZOFFSETTO:-0600
RRULE:FREQ=YEARLY;BYDAY=1SU;BYMONTH=11
TZNAME:CST
END:STANDARD
END:VTIMEZONE
BEGIN:VEVENT
DTSTAMP;TZID=America/Chicago:20260423T230655
UID:221316@calendar.wisc.edu
DTSTART;TZID=America/Chicago:20260430T140000
DTEND;TZID=America/Chicago:20260430T150000
DESCRIPTION:Gina El Nesr - Towards the zero-shot design of de novo enzymes.
  Gina El Nesr is from Stanford University. MAIP website https://mad-ai-pro
 teins.github.io/\n\nCONTACT: 262-3040
LOCATION:175 DeLuca Biochemistry Laboratories
SUMMARY:Madison AI for Proteins (MAIP) & the UW Data Science Institute Spec
 ial Seminar
END:VEVENT
END:VCALENDAR

