BEGIN:VCALENDAR
VERSION:2.0
PRODID:icalendar-ruby
CALSCALE:GREGORIAN
BEGIN:VTIMEZONE
TZID:America/Chicago
BEGIN:DAYLIGHT
DTSTART:20260308T030000
TZOFFSETFROM:-0600
TZOFFSETTO:-0500
RRULE:FREQ=YEARLY;BYDAY=2SU;BYMONTH=3
TZNAME:CDT
END:DAYLIGHT
BEGIN:STANDARD
DTSTART:20261101T010000
TZOFFSETFROM:-0500
TZOFFSETTO:-0600
RRULE:FREQ=YEARLY;BYDAY=1SU;BYMONTH=11
TZNAME:CST
END:STANDARD
END:VTIMEZONE
BEGIN:VEVENT
DTSTAMP;TZID=America/Chicago:20260423T230827
UID:221317@calendar.wisc.edu
DTSTART;TZID=America/Chicago:20260430T072000
DTEND;TZID=America/Chicago:20260430T081000
DESCRIPTION:Immigration and Health: The Local Face of Global Health. Presen
 ted by UW Department of Ob-Gyn resident Dr. Aaditi Naik\n\nCONTACT: jlreet
 z@wisc.edu\n\nURL: https://www.obgyn.wisc.edu/grandrounds\n\nONLINE: https
 ://www.obgyn.wisc.edu/grandrounds
LOCATION:  (Online)
SUMMARY:Ob-Gyn Grand Rounds
URL;VALUE=URI:https://www.obgyn.wisc.edu/grandrounds
END:VEVENT
END:VCALENDAR

